BEGIN:VCALENDAR
VERSION:2.0
PRODID:-//Ohlone Audubon Society - ECPv6.15.20//NONSGML v1.0//EN
CALSCALE:GREGORIAN
METHOD:PUBLISH
X-WR-CALNAME:Ohlone Audubon Society
X-ORIGINAL-URL:https://ohloneaudubon.org
X-WR-CALDESC:Events for Ohlone Audubon Society
REFRESH-INTERVAL;VALUE=DURATION:PT1H
X-Robots-Tag:noindex
X-PUBLISHED-TTL:PT1H
BEGIN:VTIMEZONE
TZID:America/Los_Angeles
BEGIN:DAYLIGHT
TZOFFSETFROM:-0800
TZOFFSETTO:-0700
TZNAME:PDT
DTSTART:20240310T100000
END:DAYLIGHT
BEGIN:STANDARD
TZOFFSETFROM:-0700
TZOFFSETTO:-0800
TZNAME:PST
DTSTART:20241103T090000
END:STANDARD
BEGIN:DAYLIGHT
TZOFFSETFROM:-0800
TZOFFSETTO:-0700
TZNAME:PDT
DTSTART:20250309T100000
END:DAYLIGHT
BEGIN:STANDARD
TZOFFSETFROM:-0700
TZOFFSETTO:-0800
TZNAME:PST
DTSTART:20251102T090000
END:STANDARD
BEGIN:DAYLIGHT
TZOFFSETFROM:-0800
TZOFFSETTO:-0700
TZNAME:PDT
DTSTART:20260308T100000
END:DAYLIGHT
BEGIN:STANDARD
TZOFFSETFROM:-0700
TZOFFSETTO:-0800
TZNAME:PST
DTSTART:20261101T090000
END:STANDARD
END:VTIMEZONE
BEGIN:VEVENT
DTSTART;VALUE=DATE:20251227
DTEND;VALUE=DATE:20251228
DTSTAMP:20260420T135734
CREATED:20251110T212133Z
LAST-MODIFIED:20251110T212420Z
UID:3231-1766793600-1766879999@ohloneaudubon.org
SUMMARY:Cranes and other Charismatic Critters: Cosumnes River Preserve\, Woodbridge Ecological Reserve
DESCRIPTION:Cranes and other Charismatic Critters: Cosumnes River Preserve\, Woodbridge Ecological Reserve\, and more\nSaturday\, December 27\, 1:30pm to sunset\nLeader: David “Doc Quack” Riensche\nRSVP: Use form to RSVP\nEach fall Sandhill Cranes return to the Central Valley where they feed\, socialize\, and rest in the fields and then fly to roost overnight in wetlands. Tundra Swans\, Cackling Geese\, Snow and Ross’s Geese\, rafts of winter ducks\, and other waterfowl and raptors are commonly seen. During this season more than 200 species of birds may be observed! We’ll bird the boardwalk at Cosumnes River Preserve and drive by the Desmond Road ponds\, check out Staten Island\, and make our way to Woodbridge Ecological Reserve for sunset fly-in (~ 4:53pm). The field trip ends at Woodbridge where you can easily get back on I-5 for the drive home. Wear layers and bring snacks and water. Cosumnes River Preserve is about 70 miles from Livermore. The trip will be canceled if inclement weather is forecast. \nDirections: Take I-580 east to I-205 east to I-5. Take I- 5 north to the Twin Cities Road exit. Go east on Twin Cities Road about 1 mile and turn right on Franklin Blvd. Continue about a mile or so to the visitor center (facilities available). Look for the group in the parking lot or on the boardwalk. \nNote: CDFW requires you to carry a Lands Pass at Woodbridge. For general information on Lands Passes:\nhttps://www.wildlife.ca.gov/licensing/lands-pass \nTo purchase a Lands Pass to print at home:\nhttps://www.ca.wildlifelicense.com/InternetSales/
URL:https://ohloneaudubon.org/event/cranes-and-other-charismatic-critters-cosumnes-river-preserve-woodbridge-ecological-reserve/
CATEGORIES:Field Trips
ATTACH;FMTTYPE=image/jpeg:https://ohloneaudubon.org/wp-content/uploads/2025/11/mypubliclandsroadtrip_2016-_Wildlife_Watching_Cosumnes_River_Preserve_28924370286.jpg
ORGANIZER;CN="David %E2%80%9CDoc Quack%E2%80%9D Riensche":MAILTO:driensche@ebparks.org 
END:VEVENT
END:VCALENDAR