BEGIN:VCALENDAR
VERSION:2.0
PRODID:-//Ohlone Audubon Society - ECPv6.15.20//NONSGML v1.0//EN
CALSCALE:GREGORIAN
METHOD:PUBLISH
X-WR-CALNAME:Ohlone Audubon Society
X-ORIGINAL-URL:https://ohloneaudubon.org
X-WR-CALDESC:Events for Ohlone Audubon Society
REFRESH-INTERVAL;VALUE=DURATION:PT1H
X-Robots-Tag:noindex
X-PUBLISHED-TTL:PT1H
BEGIN:VTIMEZONE
TZID:America/Los_Angeles
BEGIN:DAYLIGHT
TZOFFSETFROM:-0800
TZOFFSETTO:-0700
TZNAME:PDT
DTSTART:20240310T100000
END:DAYLIGHT
BEGIN:STANDARD
TZOFFSETFROM:-0700
TZOFFSETTO:-0800
TZNAME:PST
DTSTART:20241103T090000
END:STANDARD
BEGIN:DAYLIGHT
TZOFFSETFROM:-0800
TZOFFSETTO:-0700
TZNAME:PDT
DTSTART:20250309T100000
END:DAYLIGHT
BEGIN:STANDARD
TZOFFSETFROM:-0700
TZOFFSETTO:-0800
TZNAME:PST
DTSTART:20251102T090000
END:STANDARD
BEGIN:DAYLIGHT
TZOFFSETFROM:-0800
TZOFFSETTO:-0700
TZNAME:PDT
DTSTART:20260308T100000
END:DAYLIGHT
BEGIN:STANDARD
TZOFFSETFROM:-0700
TZOFFSETTO:-0800
TZNAME:PST
DTSTART:20261101T090000
END:STANDARD
END:VTIMEZONE
BEGIN:VEVENT
DTSTART;TZID=America/Los_Angeles:20250125T090000
DTEND;TZID=America/Los_Angeles:20250125T120000
DTSTAMP:20260420T115505
CREATED:20250120T230945Z
LAST-MODIFIED:20250215T222028Z
UID:1806-1737795600-1737806400@ohloneaudubon.org
SUMMARY:North Livermore/Springtown
DESCRIPTION:Contact ka*******@*ol.com \n\n\n\n We will walk along the Arroyo\, where we can expect wading birds such as stilts and egrets\, ducks\, incl. Cinnamon Teal\, and many wintering and resident songbirds. Rails and snipe are possible. The open fields are productive for raptors – Golden Eagle and Ferruginous Hawk have been seen here. Wide\, level trails make walking easy. Bring your scope if you have one. Heavy rain cancels.  \n\n\n\nDirections: Take I-580 east to Exit 54 for First Street/Springtown Blvd; turn left onto First Street\, which becomes Springtown Blvd. Turn right (east) on Bluebell Dr. and continue about a mile and a half to Marlin A. Pound Neighborhood Park. We will meet at the bridge crossing the Arroyo. Park on either side of the street. No restrooms are on our route\, so you may wish to make a pit stop before arriving at the meeting point.  \n\n\n\nLeaders: Kathy Robertson & Karen Kramer  \n\n\n\nLocation North Livermore/Springtown
URL:https://ohloneaudubon.org/event/north-livermore-springtown/
LOCATION:North Livermore/Springtown\, 2010 Bluebell Dr\, Livermore\, California\, 94551
CATEGORIES:Field Trips
END:VEVENT
END:VCALENDAR