BEGIN:VCALENDAR
VERSION:2.0
PRODID:-//Ohlone Audubon Society - ECPv6.15.20//NONSGML v1.0//EN
CALSCALE:GREGORIAN
METHOD:PUBLISH
X-WR-CALNAME:Ohlone Audubon Society
X-ORIGINAL-URL:https://ohloneaudubon.org
X-WR-CALDESC:Events for Ohlone Audubon Society
REFRESH-INTERVAL;VALUE=DURATION:PT1H
X-Robots-Tag:noindex
X-PUBLISHED-TTL:PT1H
BEGIN:VTIMEZONE
TZID:America/Los_Angeles
BEGIN:DAYLIGHT
TZOFFSETFROM:-0800
TZOFFSETTO:-0700
TZNAME:PDT
DTSTART:20240310T100000
END:DAYLIGHT
BEGIN:STANDARD
TZOFFSETFROM:-0700
TZOFFSETTO:-0800
TZNAME:PST
DTSTART:20241103T090000
END:STANDARD
BEGIN:DAYLIGHT
TZOFFSETFROM:-0800
TZOFFSETTO:-0700
TZNAME:PDT
DTSTART:20250309T100000
END:DAYLIGHT
BEGIN:STANDARD
TZOFFSETFROM:-0700
TZOFFSETTO:-0800
TZNAME:PST
DTSTART:20251102T090000
END:STANDARD
BEGIN:DAYLIGHT
TZOFFSETFROM:-0800
TZOFFSETTO:-0700
TZNAME:PDT
DTSTART:20260308T100000
END:DAYLIGHT
BEGIN:STANDARD
TZOFFSETFROM:-0700
TZOFFSETTO:-0800
TZNAME:PST
DTSTART:20261101T090000
END:STANDARD
END:VTIMEZONE
BEGIN:VEVENT
DTSTART;TZID=America/Los_Angeles:20250205T173000
DTEND;TZID=America/Los_Angeles:20250205T190000
DTSTAMP:20260420T115758
CREATED:20250204T204939Z
LAST-MODIFIED:20250215T213114Z
UID:1912-1738776600-1738782000@ohloneaudubon.org
SUMMARY:Owling in Garin Regional Park
DESCRIPTION: February 1\, 2\, 3\, 4\, and 5\, 5:30pm – 7pm \n\n\n\nLeader: Bob Toleno     RSVP: bo*@****no.com \n\n\n\nThough highly sought after\, owls are often the most difficult birds for us to see\, for the obvious reason that most are typically only out after dark. On this trip\, we’ll take a short walk (less than a mile over flat ground) into Garin Regional Park\, with the primary goal of finding Western Screech-Owls\, and getting a flashlight on them so all participants can get a look. February is when they’re starting their nesting cycle\, so they should be active and vocal as soon as it gets dark. We will likely also hear Great Horned and American Barn Owls. \n\n\n\nThese trips will be limited to only FIVE participants per outing. You MUST RSVP to bo*@****no.com and specify which date you would like to go. \n\n\n\nTry to have a back-up date in mind\, also\, in case the date you choose is already full. The meeting location and directions will be provided via email before the trip. If all  trips fill up\, there will be a waiting list. Any rain or wind at all will cancel an outing\, though I will do my best to reschedule cancelled trips\, if possible.  \n\n\n\nLocation Owling in Garin Regional Park
URL:https://ohloneaudubon.org/event/owling-in-garin-regional-park/
CATEGORIES:Field Trips
ORGANIZER;CN="bob@toleno.com":MAILTO:bob@toleno.com
END:VEVENT
END:VCALENDAR