BEGIN:VCALENDAR
VERSION:2.0
PRODID:-//Ohlone Audubon Society - ECPv6.15.20//NONSGML v1.0//EN
CALSCALE:GREGORIAN
METHOD:PUBLISH
X-WR-CALNAME:Ohlone Audubon Society
X-ORIGINAL-URL:https://ohloneaudubon.org
X-WR-CALDESC:Events for Ohlone Audubon Society
REFRESH-INTERVAL;VALUE=DURATION:PT1H
X-Robots-Tag:noindex
X-PUBLISHED-TTL:PT1H
BEGIN:VTIMEZONE
TZID:America/Los_Angeles
BEGIN:DAYLIGHT
TZOFFSETFROM:-0800
TZOFFSETTO:-0700
TZNAME:PDT
DTSTART:20240310T100000
END:DAYLIGHT
BEGIN:STANDARD
TZOFFSETFROM:-0700
TZOFFSETTO:-0800
TZNAME:PST
DTSTART:20241103T090000
END:STANDARD
BEGIN:DAYLIGHT
TZOFFSETFROM:-0800
TZOFFSETTO:-0700
TZNAME:PDT
DTSTART:20250309T100000
END:DAYLIGHT
BEGIN:STANDARD
TZOFFSETFROM:-0700
TZOFFSETTO:-0800
TZNAME:PST
DTSTART:20251102T090000
END:STANDARD
BEGIN:DAYLIGHT
TZOFFSETFROM:-0800
TZOFFSETTO:-0700
TZNAME:PDT
DTSTART:20260308T100000
END:DAYLIGHT
BEGIN:STANDARD
TZOFFSETFROM:-0700
TZOFFSETTO:-0800
TZNAME:PST
DTSTART:20261101T090000
END:STANDARD
END:VTIMEZONE
BEGIN:VEVENT
DTSTART;TZID=America/Los_Angeles:20251130T082000
DTEND;TZID=America/Los_Angeles:20251130T120000
DTSTAMP:20260420T133244
CREATED:20251108T000208Z
LAST-MODIFIED:20251108T000541Z
UID:3213-1764490800-1764504000@ohloneaudubon.org
SUMMARY:Pacific Commons Linear Park
DESCRIPTION:Sunday\, November 30\, 8:30am – noon\nLeaders: Rich Nicholson & Bob Dunn\nrs****@***oo.com\n\nFremont’s Pacific Commons Linear Park is a productive winter birding site. The ponds are excellent for many waterfowl species. Waders such as American Bittern inhabit the pond edges and wetlands. The fields are productive for wintering sparrows. We have a good chance at seeing interesting raptors such as Ferruginous Hawk and Golden Eagle. Snow\, Ross’s and Cackling Geese\noften visit this time of year. Bring a scope if you have one. Heavy rain cancels.\n\nDirections: To reach the park\, exit I-880 in Fremont at Auto Mall Parkway. Go west on Auto Mall Parkway for a mile to a small pull-off area on the left at an entrance sign\, and park along the road. No facilities at Pacific Commons\, but you pass a Starbucks on the north side of Auto Mall Parkway on your way to the park.
URL:https://ohloneaudubon.org/event/pacific-commons-linear-park/
LOCATION:Pacific Commons Linear Park\, Nobel Dr\, Fremont\, CA\, 94538\, United States
CATEGORIES:Field Trips
ATTACH;FMTTYPE=image/jpeg:https://ohloneaudubon.org/wp-content/uploads/2025/11/7668540_a3f4024c.jpg
ORGANIZER;CN="Rich Nicholson and Bob Dunn":MAILTO:rsn711@yahoo.com 
END:VEVENT
END:VCALENDAR