BEGIN:VCALENDAR
VERSION:2.0
PRODID:-//Ohlone Audubon Society - ECPv6.15.20//NONSGML v1.0//EN
CALSCALE:GREGORIAN
METHOD:PUBLISH
X-WR-CALNAME:Ohlone Audubon Society
X-ORIGINAL-URL:https://ohloneaudubon.org
X-WR-CALDESC:Events for Ohlone Audubon Society
REFRESH-INTERVAL;VALUE=DURATION:PT1H
X-Robots-Tag:noindex
X-PUBLISHED-TTL:PT1H
BEGIN:VTIMEZONE
TZID:America/Los_Angeles
BEGIN:DAYLIGHT
TZOFFSETFROM:-0800
TZOFFSETTO:-0700
TZNAME:PDT
DTSTART:20240310T100000
END:DAYLIGHT
BEGIN:STANDARD
TZOFFSETFROM:-0700
TZOFFSETTO:-0800
TZNAME:PST
DTSTART:20241103T090000
END:STANDARD
BEGIN:DAYLIGHT
TZOFFSETFROM:-0800
TZOFFSETTO:-0700
TZNAME:PDT
DTSTART:20250309T100000
END:DAYLIGHT
BEGIN:STANDARD
TZOFFSETFROM:-0700
TZOFFSETTO:-0800
TZNAME:PST
DTSTART:20251102T090000
END:STANDARD
BEGIN:DAYLIGHT
TZOFFSETFROM:-0800
TZOFFSETTO:-0700
TZNAME:PDT
DTSTART:20260308T100000
END:DAYLIGHT
BEGIN:STANDARD
TZOFFSETFROM:-0700
TZOFFSETTO:-0800
TZNAME:PST
DTSTART:20261101T090000
END:STANDARD
END:VTIMEZONE
BEGIN:VEVENT
DTSTART;TZID=America/Los_Angeles:20251211T083000
DTEND;TZID=America/Los_Angeles:20251211T110000
DTSTAMP:20260420T151459
CREATED:20251110T210947Z
LAST-MODIFIED:20251110T211039Z
UID:10000066-1765441800-1765450800@ohloneaudubon.org
SUMMARY:Garin Regional Park
DESCRIPTION:Thursday\, December 11\, 8:30am – 11am\nLeader: Bob Toleno bo*@****no.com\n\n\n\nGarin Regional Park in late fall can be especially beautiful. Come get a little preview of the Christmas Bird Count that will be held here a few days later. We’ll take a short\, relatively flat walk to Jordan Pond and back\, looking for wintering sparrows\, warblers\, woodpeckers\, thrushes\, and other species. Be prepared for cold. Heavy rain cancels. All are welcome\, and pre-registration is not required.\n\nDirections: From I-880\, take the Industrial Pkwy exit and head east. Make a right on Mission Blvd. then an immediate left on Garin Ave. Follow Garin Ave uphill until you reach the park. If the kiosk is staffed\, there may be a $5 fee for parking (free for EBRPD pass holders). Meet in the parking lot near the bridge.
URL:https://ohloneaudubon.org/event/garin-regional-park/
LOCATION:Garin Regional Park\, 1320 Garin Ave\, \, Hayward\, CA\, 94544\, United States
CATEGORIES:Field Trips
ATTACH;FMTTYPE=image/jpeg:https://ohloneaudubon.org/wp-content/uploads/2025/11/unnamed.jpg
END:VEVENT
END:VCALENDAR