BEGIN:VCALENDAR
VERSION:2.0
PRODID:-//Ohlone Audubon Society - ECPv6.15.20//NONSGML v1.0//EN
CALSCALE:GREGORIAN
METHOD:PUBLISH
X-WR-CALNAME:Ohlone Audubon Society
X-ORIGINAL-URL:https://ohloneaudubon.org
X-WR-CALDESC:Events for Ohlone Audubon Society
REFRESH-INTERVAL;VALUE=DURATION:PT1H
X-Robots-Tag:noindex
X-PUBLISHED-TTL:PT1H
BEGIN:VTIMEZONE
TZID:America/Los_Angeles
BEGIN:DAYLIGHT
TZOFFSETFROM:-0800
TZOFFSETTO:-0700
TZNAME:PDT
DTSTART:20250309T100000
END:DAYLIGHT
BEGIN:STANDARD
TZOFFSETFROM:-0700
TZOFFSETTO:-0800
TZNAME:PST
DTSTART:20251102T090000
END:STANDARD
BEGIN:DAYLIGHT
TZOFFSETFROM:-0800
TZOFFSETTO:-0700
TZNAME:PDT
DTSTART:20260308T100000
END:DAYLIGHT
BEGIN:STANDARD
TZOFFSETFROM:-0700
TZOFFSETTO:-0800
TZNAME:PST
DTSTART:20261101T090000
END:STANDARD
BEGIN:DAYLIGHT
TZOFFSETFROM:-0800
TZOFFSETTO:-0700
TZNAME:PDT
DTSTART:20270314T100000
END:DAYLIGHT
BEGIN:STANDARD
TZOFFSETFROM:-0700
TZOFFSETTO:-0800
TZNAME:PST
DTSTART:20271107T090000
END:STANDARD
END:VTIMEZONE
BEGIN:VEVENT
DTSTART;TZID=America/Los_Angeles:20260103T090000
DTEND;TZID=America/Los_Angeles:20260103T113000
DTSTAMP:20260422T060552
CREATED:20251110T212920Z
LAST-MODIFIED:20251110T213341Z
UID:10000068-1767430800-1767439800@ohloneaudubon.org
SUMMARY:Arrowhead and New Marsh - Martin Luther King Regional Shoreline
DESCRIPTION:Saturday\, January 2\, 9am – 11:30am  \nLeaders: David “Doc Quack” Riensche & Maggie Clark\nA 8.4 high tide will hit Arrowhead Marsh creating an opportunity to see Ridgway’s Rails\, Virginia Rails\, and Soras. Wintering ducks and shorebirds will be plentiful.\, We will use “Doc Quack’s” special access code to visit the New Marsh and “peep at” the newly finished “Shorebird Sanctuary” island. Dress in layers . The area is completely paved. This is a wheelchair-accessible field trip. The trip will be canceled if inclement weather is forecast.\n\nRSVP: ma***********@***il.com or Use the “Register” button above \nDirections: From I-880\, go west on Hegenberger towards the airport and turn right on Pardee. Make a left at Swan and turn right into the entrance to Martin Luther King Regional Shoreline. Follow the entrance road all the way to the end. On the way to the parking lot\, drive slowly and keep an eye out for Burrowing Owls on the berms to the right.
URL:https://ohloneaudubon.org/event/arrowhead-and-new-marsh-martin-luther-king-regional-shoreline/
LOCATION:Arrowhead and New Marsh – Martin Luther King Regional Shoreline\, 7250 Doolittle Dr.\, Oakland\, CA\, 94621
CATEGORIES:Field Trips
ATTACH;FMTTYPE=image/jpeg:https://ohloneaudubon.org/wp-content/uploads/2025/11/MLK-Shoreline_RickLewis.jpg
ORGANIZER;CN="David %E2%80%9CDoc Quack%E2%80%9D Riensche & Maggie Clark":MAILTO:maggieclark99@gmail.com
END:VEVENT
BEGIN:VEVENT
DTSTART;TZID=America/Los_Angeles:20260131T090000
DTEND;TZID=America/Los_Angeles:20260131T120000
DTSTAMP:20260422T060552
CREATED:20260126T192719Z
LAST-MODIFIED:20260126T192810Z
UID:10000071-1769850000-1769860800@ohloneaudubon.org
SUMMARY:North Livermore/Springtown
DESCRIPTION:Contact Kathy Robertson & Karen Kramer  ka*******@*ol.com\n\n\nSaturday\, January 31\, 9:00am – noon\nLeaders: Kathy Robertson & Karen Kramer  ka*******@*ol.com  \nWe will walk along the Arroyo\, where we can expect wading birds such as stilts and egrets\, ducks\, including Cinnamon Teal\, and many wintering and resident songbirds. Rails and snipe are possible. The open fields are productive for raptors – Golden Eagle has been seen here. Wide\, level trails make walking easy. Bring your scope if you have one. Heavy rain cancels. \nDirections: Take I-580 east to Exit 54 for First Street/Springtown Blvd; turn left onto First Street\, which becomes Springtown Blvd. Turn right (east) on Bluebell Dr. and continue about a mile and a half to Marlin A. Pound Neighborhood Park. We will meet at the bridge crossing the Arroyo. Park on either side of the street. No restrooms are on our route\, so you may wish to make a pit stop before arriving at the meeting point. 
URL:https://ohloneaudubon.org/event/north-livermore-springtown-2/
LOCATION:North Livermore/Springtown\, 2010 Bluebell Dr\, Livermore\, California\, 94551
CATEGORIES:Field Trips
ATTACH;FMTTYPE=image/jpeg:https://ohloneaudubon.org/wp-content/uploads/2026/01/348s.jpg
ORGANIZER;CN="Kathy Robertson & Karen Kramer":MAILTO:katbirdca@aol.com
END:VEVENT
END:VCALENDAR