BEGIN:VCALENDAR
VERSION:2.0
PRODID:-//Ohlone Audubon Society - ECPv6.15.20//NONSGML v1.0//EN
CALSCALE:GREGORIAN
METHOD:PUBLISH
X-WR-CALNAME:Ohlone Audubon Society
X-ORIGINAL-URL:https://ohloneaudubon.org
X-WR-CALDESC:Events for Ohlone Audubon Society
REFRESH-INTERVAL;VALUE=DURATION:PT1H
X-Robots-Tag:noindex
X-PUBLISHED-TTL:PT1H
BEGIN:VTIMEZONE
TZID:America/Los_Angeles
BEGIN:DAYLIGHT
TZOFFSETFROM:-0800
TZOFFSETTO:-0700
TZNAME:PDT
DTSTART:20240310T100000
END:DAYLIGHT
BEGIN:STANDARD
TZOFFSETFROM:-0700
TZOFFSETTO:-0800
TZNAME:PST
DTSTART:20241103T090000
END:STANDARD
BEGIN:DAYLIGHT
TZOFFSETFROM:-0800
TZOFFSETTO:-0700
TZNAME:PDT
DTSTART:20250309T100000
END:DAYLIGHT
BEGIN:STANDARD
TZOFFSETFROM:-0700
TZOFFSETTO:-0800
TZNAME:PST
DTSTART:20251102T090000
END:STANDARD
BEGIN:DAYLIGHT
TZOFFSETFROM:-0800
TZOFFSETTO:-0700
TZNAME:PDT
DTSTART:20260308T100000
END:DAYLIGHT
BEGIN:STANDARD
TZOFFSETFROM:-0700
TZOFFSETTO:-0800
TZNAME:PST
DTSTART:20261101T090000
END:STANDARD
END:VTIMEZONE
BEGIN:VEVENT
DTSTART;TZID=America/Los_Angeles:20250902T193000
DTEND;TZID=America/Los_Angeles:20250902T213000
DTSTAMP:20260420T180534
CREATED:20250825T205559Z
LAST-MODIFIED:20260403T172244Z
UID:10000053-1756841400-1756848600@ohloneaudubon.org
SUMMARY:Autonomously-Monitoring Birdboxes: An Eco Innovate Initiative!
DESCRIPTION:Eco Innovate is a youth-founded nonprofit combining technology and sustainability. Starting in early 2024 with their founding project\, Birdboxers\, the organization innovated a system to revolutionize the field ofnestboxmonitoring. They utilize technology to power autonomous remote-monitoring systems which remove the manual aspects of nestbox monitoring for ornithology and climate change research.They have installed 15 Birdboxesat local gardens and parks in the Bay Area\, and have received over 40\,000 data points from these installations. Founding members of Eco Innovate are Pooja Verma\, Sophie Le\, Lisa Sun\, Sai Sri Lashya Gillella and\, Harshitha Loganathan.
URL:https://ohloneaudubon.org/event/autonomously-monitoring-birdboxes-an-eco-innovate-initiative/
LOCATION:CA
CATEGORIES:Membership Meetings
ATTACH;FMTTYPE=image/jpeg:https://ohloneaudubon.org/wp-content/uploads/2025/08/Founding-Team.jpg
END:VEVENT
BEGIN:VEVENT
DTSTART;TZID=America/Los_Angeles:20250914T110000
DTEND;TZID=America/Los_Angeles:20250914T110000
DTSTAMP:20260420T180535
CREATED:20250825T210844Z
LAST-MODIFIED:20260117T010904Z
UID:10000054-1757847600-1757847600@ohloneaudubon.org
SUMMARY:Membership Appreciation Picnic
DESCRIPTION:Ohlone Audubon Society Invites You to\nThe Sara Matthews & Helen Sowers\nMEMBERSHIP APPRECIATION PICNIC \nDate: Sunday\, September 14th\, 2025\nSchedule: Field Trip with Bob Toleno at 11:00\, Lunch at Noon (RSVP required)\, Presentations at 1:00\nLocation: 3 Calhoun Sisters’ Ranch\, 12461 Mines Road\, Livermore \nPresenters: \n\nHistory of 3 Calhoun Sisters’ Ranch – Nancy Mueller\nBluebird Boxes at 3 Calhoun Sisters’ Ranch – Irv Tiessen\nAudubon California Conservation Ranching Program Staff\n\nThis picnic is to show appreciation to members for their support.\nYou and your family are invited to a catered (no charge) luncheon. \nPlease RSVP to Pat Gordon – pa****@*ol.com \nDirections: From 580 East take exit 52B North Livermore Avenue. Turn right on Livermore Ave. and head south. Take Livermore Ave. all the way to the very end where it takes a left and becomes Tesla Road. At the flrst stoplight\, turn right onto Mines Road. Once you are on Mines Road you will drive about five miles and come to a Y. Just before the Y there is a sign that shows you can turn left towards San Jose\, or go straight up the hill to Lake Del Valle. You will turn left there to continue driving on Mines Road. Continue on Mines Road for about another 4 miles. Watch for the 8.7 mile marker. The gate for the ranch is on the right just past that mileage marker. \nLocation: 3 Calhoun Sisters’ Ranch\, 12461 Mines Road\, Livermore
URL:https://ohloneaudubon.org/event/membership-appreciation-picnic/
LOCATION:CA
CATEGORIES:Membership Meetings
ATTACH;FMTTYPE=image/png:https://ohloneaudubon.org/wp-content/uploads/2025/05/image.png
ORGANIZER;CN="pagpeg@aol.com":MAILTO:pagpeg@aol.com
END:VEVENT
END:VCALENDAR